Package: Rmagpie Version: 1.56.0 Command: chmod a+r Rmagpie -R && F:\biocbuild\bbs-3.17-bioc\R\bin\R.exe CMD build --keep-empty-dirs --no-resave-data Rmagpie StartedAt: 2023-10-15 21:51:13 -0400 (Sun, 15 Oct 2023) EndedAt: 2023-10-15 21:52:02 -0400 (Sun, 15 Oct 2023) EllapsedTime: 49.1 seconds RetCode: 0 Status: OK PackageFile: Rmagpie_1.56.0.tar.gz PackageFileSize: 295.3 KiB