Package: Rmagpie Version: 1.56.0 Command: /home/biocbuild/bbs-3.17-bioc/R/bin/R CMD INSTALL Rmagpie StartedAt: 2023-10-15 15:39:33 -0400 (Sun, 15 Oct 2023) EndedAt: 2023-10-15 15:39:46 -0400 (Sun, 15 Oct 2023) EllapsedTime: 12.8 seconds RetCode: 0 Status: OK