Package: Rmagpie Version: 1.56.0 Command: /home/biocbuild/bbs-3.17-bioc/R/bin/R CMD check --install=check:Rmagpie.install-out.txt --library=/home/biocbuild/bbs-3.17-bioc/R/site-library --timings Rmagpie_1.56.0.tar.gz StartedAt: 2023-10-16 00:29:28 -0400 (Mon, 16 Oct 2023) EndedAt: 2023-10-16 00:31:23 -0400 (Mon, 16 Oct 2023) EllapsedTime: 115.6 seconds RetCode: 0 Status: OK CheckDir: Rmagpie.Rcheck Warnings: 0