Package: Rmagpie Version: 1.56.0 Command: /home/biocbuild/bbs-3.17-bioc/R/bin/R CMD build --keep-empty-dirs --no-resave-data Rmagpie StartedAt: 2023-10-15 18:14:19 -0400 (Sun, 15 Oct 2023) EndedAt: 2023-10-15 18:14:53 -0400 (Sun, 15 Oct 2023) EllapsedTime: 34.3 seconds RetCode: 0 Status: OK PackageFile: Rmagpie_1.56.0.tar.gz PackageFileSize: 327.5 KiB