Package: Rmagpie Version: 1.56.0 Command: /Library/Frameworks/R.framework/Resources/bin/R CMD check --install=check:Rmagpie.install-out.txt --library=/Library/Frameworks/R.framework/Resources/library --no-vignettes --timings Rmagpie_1.56.0.tar.gz StartedAt: 2023-10-16 06:11:30 -0400 (Mon, 16 Oct 2023) EndedAt: 2023-10-16 06:14:56 -0400 (Mon, 16 Oct 2023) EllapsedTime: 205.2 seconds RetCode: 0 Status: OK CheckDir: Rmagpie.Rcheck Warnings: 0