Package: Rmagpie Version: 1.56.0 Command: rm -rf Rmagpie.buildbin-libdir && mkdir Rmagpie.buildbin-libdir && /Users/biocbuild/BBS/utils/build-universal.sh Rmagpie_1.56.0.tar.gz /Library/Frameworks/R.framework/Resources/bin/R Rmagpie.buildbin-libdir StartedAt: 2023-10-16 10:04:35 -0400 (Mon, 16 Oct 2023) EndedAt: 2023-10-16 10:05:23 -0400 (Mon, 16 Oct 2023) EllapsedTime: 48.2 seconds RetCode: 0 Status: OK PackageFile: Rmagpie_1.56.0.tgz PackageFileSize: 868.4 KiB