Package: Risa Version: 1.42.0 Command: F:\biocbuild\bbs-3.17-bioc\R\bin\R.exe CMD INSTALL Risa StartedAt: 2023-10-15 16:45:37 -0400 (Sun, 15 Oct 2023) EndedAt: 2023-10-15 16:46:26 -0400 (Sun, 15 Oct 2023) EllapsedTime: 49.3 seconds RetCode: 0 Status: OK