Package: Risa Version: 1.42.0 Command: /home/biocbuild/bbs-3.17-bioc/R/bin/R CMD check --install=check:Risa.install-out.txt --library=/home/biocbuild/bbs-3.17-bioc/R/site-library --timings Risa_1.42.0.tar.gz StartedAt: 2023-10-16 00:27:37 -0400 (Mon, 16 Oct 2023) EndedAt: 2023-10-16 00:32:51 -0400 (Mon, 16 Oct 2023) EllapsedTime: 313.8 seconds RetCode: 0 Status: OK CheckDir: Risa.Rcheck Warnings: 0