Package: Risa Version: 1.42.0 Command: /Library/Frameworks/R.framework/Resources/bin/R CMD INSTALL Risa StartedAt: 2023-10-15 16:12:02 -0400 (Sun, 15 Oct 2023) EndedAt: 2023-10-15 16:14:03 -0400 (Sun, 15 Oct 2023) EllapsedTime: 121.1 seconds RetCode: 0 Status: OK