Package: Risa Version: 1.42.0 Command: rm -rf Risa.buildbin-libdir && mkdir Risa.buildbin-libdir && /Users/biocbuild/BBS/utils/build-universal.sh Risa_1.42.0.tar.gz /Library/Frameworks/R.framework/Resources/bin/R Risa.buildbin-libdir StartedAt: 2023-10-16 10:04:09 -0400 (Mon, 16 Oct 2023) EndedAt: 2023-10-16 10:06:19 -0400 (Mon, 16 Oct 2023) EllapsedTime: 130.5 seconds RetCode: 0 Status: OK PackageFile: Risa_1.42.0.tgz PackageFileSize: 2.722 MiB