Package: Ringo Version: 1.64.0 Command: F:\biocbuild\bbs-3.17-bioc\R\bin\R.exe CMD INSTALL Ringo StartedAt: 2023-10-15 16:38:00 -0400 (Sun, 15 Oct 2023) EndedAt: 2023-10-15 16:38:41 -0400 (Sun, 15 Oct 2023) EllapsedTime: 41.1 seconds RetCode: 0 Status: OK