Package: Ringo Version: 1.64.0 Command: F:\biocbuild\bbs-3.17-bioc\R\bin\R.exe CMD check --no-multiarch --install=check:Ringo.install-out.txt --library=F:\biocbuild\bbs-3.17-bioc\R\library --no-vignettes --timings Ringo_1.64.0.tar.gz StartedAt: 2023-10-16 06:02:56 -0400 (Mon, 16 Oct 2023) EndedAt: 2023-10-16 06:05:34 -0400 (Mon, 16 Oct 2023) EllapsedTime: 158.0 seconds RetCode: 0 Status: OK CheckDir: Ringo.Rcheck Warnings: 0