Package: Ringo Version: 1.64.0 Command: chmod a+r Ringo -R && F:\biocbuild\bbs-3.17-bioc\R\bin\R.exe CMD build --keep-empty-dirs --no-resave-data Ringo StartedAt: 2023-10-15 21:49:44 -0400 (Sun, 15 Oct 2023) EndedAt: 2023-10-15 21:50:37 -0400 (Sun, 15 Oct 2023) EllapsedTime: 53.4 seconds RetCode: 0 Status: OK PackageFile: Ringo_1.64.0.tar.gz PackageFileSize: 915.1 KiB