Package: Ringo Version: 1.64.0 Command: rm -rf Ringo.buildbin-libdir && mkdir Ringo.buildbin-libdir && F:\biocbuild\bbs-3.17-bioc\R\bin\R.exe CMD INSTALL --build --library=Ringo.buildbin-libdir Ringo_1.64.0.tar.gz StartedAt: 2023-10-16 09:24:03 -0400 (Mon, 16 Oct 2023) EndedAt: 2023-10-16 09:24:46 -0400 (Mon, 16 Oct 2023) EllapsedTime: 43.5 seconds RetCode: 0 Status: OK PackageFile: Ringo_1.64.0.zip PackageFileSize: 1.947 MiB