Package: Ringo Version: 1.64.0 Command: /home/biocbuild/bbs-3.17-bioc/R/bin/R CMD check --install=check:Ringo.install-out.txt --library=/home/biocbuild/bbs-3.17-bioc/R/site-library --timings Ringo_1.64.0.tar.gz StartedAt: 2023-10-16 00:27:25 -0400 (Mon, 16 Oct 2023) EndedAt: 2023-10-16 00:30:26 -0400 (Mon, 16 Oct 2023) EllapsedTime: 181.3 seconds RetCode: 0 Status: OK CheckDir: Ringo.Rcheck Warnings: 0