Package: Ringo Version: 1.64.0 Command: /home/biocbuild/bbs-3.17-bioc/R/bin/R CMD build --keep-empty-dirs --no-resave-data Ringo StartedAt: 2023-10-15 18:13:32 -0400 (Sun, 15 Oct 2023) EndedAt: 2023-10-15 18:14:10 -0400 (Sun, 15 Oct 2023) EllapsedTime: 38.6 seconds RetCode: 0 Status: OK PackageFile: Ringo_1.64.0.tar.gz PackageFileSize: 1.014 MiB