Package: Ringo Version: 1.64.0 Command: /Library/Frameworks/R.framework/Resources/bin/R CMD check --install=check:Ringo.install-out.txt --library=/Library/Frameworks/R.framework/Resources/library --no-vignettes --timings Ringo_1.64.0.tar.gz StartedAt: 2023-10-16 06:07:02 -0400 (Mon, 16 Oct 2023) EndedAt: 2023-10-16 06:13:45 -0400 (Mon, 16 Oct 2023) EllapsedTime: 402.4 seconds RetCode: 0 Status: OK CheckDir: Ringo.Rcheck Warnings: 0