Package: Ringo Version: 1.64.0 Command: rm -rf Ringo.buildbin-libdir && mkdir Ringo.buildbin-libdir && /Users/biocbuild/BBS/utils/build-universal.sh Ringo_1.64.0.tar.gz /Library/Frameworks/R.framework/Resources/bin/R Ringo.buildbin-libdir StartedAt: 2023-10-16 10:04:07 -0400 (Mon, 16 Oct 2023) EndedAt: 2023-10-16 10:05:52 -0400 (Mon, 16 Oct 2023) EllapsedTime: 105.7 seconds RetCode: 0 Status: OK PackageFile: Ringo_1.64.0.tgz PackageFileSize: 2.305 MiB