Package: RiboProfiling Version: 1.30.0 Command: /home/biocbuild/bbs-3.17-bioc/R/bin/R CMD INSTALL RiboProfiling StartedAt: 2023-10-15 15:31:01 -0400 (Sun, 15 Oct 2023) EndedAt: 2023-10-15 15:31:51 -0400 (Sun, 15 Oct 2023) EllapsedTime: 50.2 seconds RetCode: 0 Status: OK