Package: RiboProfiling Version: 1.30.0 Command: /home/biocbuild/bbs-3.17-bioc/R/bin/R CMD check --install=check:RiboProfiling.install-out.txt --library=/home/biocbuild/bbs-3.17-bioc/R/site-library --timings RiboProfiling_1.30.0.tar.gz StartedAt: 2023-10-16 00:25:15 -0400 (Mon, 16 Oct 2023) EndedAt: 2023-10-16 00:37:06 -0400 (Mon, 16 Oct 2023) EllapsedTime: 711.0 seconds RetCode: 0 Status: WARNINGS CheckDir: RiboProfiling.Rcheck Warnings: 1