Package: RiboProfiling Version: 1.30.0 Command: /Library/Frameworks/R.framework/Resources/bin/R CMD check --install=check:RiboProfiling.install-out.txt --library=/Library/Frameworks/R.framework/Resources/library --no-vignettes --timings RiboProfiling_1.30.0.tar.gz StartedAt: 2023-10-16 06:05:07 -0400 (Mon, 16 Oct 2023) EndedAt: 2023-10-16 06:29:30 -0400 (Mon, 16 Oct 2023) EllapsedTime: 1462.8 seconds RetCode: 0 Status: WARNINGS CheckDir: RiboProfiling.Rcheck Warnings: 1