Package: RiboDiPA Version: 1.8.0 Command: F:\biocbuild\bbs-3.17-bioc\R\bin\R.exe CMD INSTALL RiboDiPA StartedAt: 2023-10-15 16:18:58 -0400 (Sun, 15 Oct 2023) EndedAt: 2023-10-15 16:20:02 -0400 (Sun, 15 Oct 2023) EllapsedTime: 64.5 seconds RetCode: 0 Status: OK