Package: RiboDiPA Version: 1.8.0 Command: chmod a+r RiboDiPA -R && F:\biocbuild\bbs-3.17-bioc\R\bin\R.exe CMD build --keep-empty-dirs --no-resave-data RiboDiPA StartedAt: 2023-10-15 21:48:24 -0400 (Sun, 15 Oct 2023) EndedAt: 2023-10-15 21:54:25 -0400 (Sun, 15 Oct 2023) EllapsedTime: 361.6 seconds RetCode: 0 Status: OK PackageFile: RiboDiPA_1.8.0.tar.gz PackageFileSize: 1.572 MiB