Package: RiboDiPA Version: 1.8.0 Command: rm -rf RiboDiPA.buildbin-libdir && mkdir RiboDiPA.buildbin-libdir && F:\biocbuild\bbs-3.17-bioc\R\bin\R.exe CMD INSTALL --build --library=RiboDiPA.buildbin-libdir RiboDiPA_1.8.0.tar.gz StartedAt: 2023-10-16 09:23:31 -0400 (Mon, 16 Oct 2023) EndedAt: 2023-10-16 09:24:37 -0400 (Mon, 16 Oct 2023) EllapsedTime: 66.0 seconds RetCode: 0 Status: OK PackageFile: RiboDiPA_1.8.0.zip PackageFileSize: 1.698 MiB