Package: RiboDiPA Version: 1.8.0 Command: /Library/Frameworks/R.framework/Resources/bin/R CMD INSTALL RiboDiPA StartedAt: 2023-10-15 15:32:48 -0400 (Sun, 15 Oct 2023) EndedAt: 2023-10-15 15:35:38 -0400 (Sun, 15 Oct 2023) EllapsedTime: 170.7 seconds RetCode: 0 Status: OK