Package: RiboCrypt Version: 1.6.0 Command: /Library/Frameworks/R.framework/Resources/bin/R CMD build --keep-empty-dirs --no-resave-data RiboCrypt StartedAt: 2023-10-15 20:40:58 -0400 (Sun, 15 Oct 2023) EndedAt: 2023-10-15 20:43:49 -0400 (Sun, 15 Oct 2023) EllapsedTime: 171.2 seconds RetCode: 0 Status: OK PackageFile: RiboCrypt_1.6.0.tar.gz PackageFileSize: 5.657 MiB