Package: Rhtslib Version: 2.2.0 Command: /home/biocbuild/bbs-3.17-bioc/R/bin/R CMD build --keep-empty-dirs --no-resave-data Rhtslib StartedAt: 2023-10-15 18:12:19 -0400 (Sun, 15 Oct 2023) EndedAt: 2023-10-15 18:13:31 -0400 (Sun, 15 Oct 2023) EllapsedTime: 72.8 seconds RetCode: 0 Status: OK PackageFile: Rhtslib_2.2.0.tar.gz PackageFileSize: 4.369 MiB