Package: Rhtslib Version: 2.2.0 Command: /Library/Frameworks/R.framework/Resources/bin/R CMD check --install=check:Rhtslib.install-out.txt --library=/Library/Frameworks/R.framework/Resources/library --no-vignettes --timings Rhtslib_2.2.0.tar.gz StartedAt: 2023-10-16 06:04:57 -0400 (Mon, 16 Oct 2023) EndedAt: 2023-10-16 06:05:37 -0400 (Mon, 16 Oct 2023) EllapsedTime: 40.4 seconds RetCode: 0 Status: WARNINGS CheckDir: Rhtslib.Rcheck Warnings: 1