Package: Rhisat2 Version: 1.16.0 Command: rm -rf Rhisat2.buildbin-libdir && mkdir Rhisat2.buildbin-libdir && F:\biocbuild\bbs-3.17-bioc\R\bin\R.exe CMD INSTALL --build --library=Rhisat2.buildbin-libdir Rhisat2_1.16.0.tar.gz StartedAt: 2023-10-16 09:23:23 -0400 (Mon, 16 Oct 2023) EndedAt: 2023-10-16 09:29:23 -0400 (Mon, 16 Oct 2023) EllapsedTime: 360.3 seconds RetCode: 0 Status: OK PackageFile: Rhisat2_1.16.0.zip PackageFileSize: 17.73 MiB