Package: Rhisat2 Version: 1.16.0 Command: /Library/Frameworks/R.framework/Resources/bin/R CMD check --install=check:Rhisat2.install-out.txt --library=/Library/Frameworks/R.framework/Resources/library --no-vignettes --timings Rhisat2_1.16.0.tar.gz StartedAt: 2023-10-16 06:04:43 -0400 (Mon, 16 Oct 2023) EndedAt: 2023-10-16 06:14:46 -0400 (Mon, 16 Oct 2023) EllapsedTime: 603.0 seconds RetCode: 0 Status: WARNINGS CheckDir: Rhisat2.Rcheck Warnings: 1