Package: Rhisat2 Version: 1.16.0 Command: /Library/Frameworks/R.framework/Resources/bin/R CMD build --keep-empty-dirs --no-resave-data Rhisat2 StartedAt: 2023-10-15 20:40:46 -0400 (Sun, 15 Oct 2023) EndedAt: 2023-10-15 20:47:04 -0400 (Sun, 15 Oct 2023) EllapsedTime: 377.4 seconds RetCode: 0 Status: OK PackageFile: Rhisat2_1.16.0.tar.gz PackageFileSize: 6.745 MiB