Package: Rhisat2 Version: 1.16.0 Command: rm -rf Rhisat2.buildbin-libdir && mkdir Rhisat2.buildbin-libdir && /Users/biocbuild/BBS/utils/build-universal.sh Rhisat2_1.16.0.tar.gz /Library/Frameworks/R.framework/Resources/bin/R Rhisat2.buildbin-libdir StartedAt: 2023-10-16 10:03:15 -0400 (Mon, 16 Oct 2023) EndedAt: 2023-10-16 10:11:33 -0400 (Mon, 16 Oct 2023) EllapsedTime: 498.0 seconds RetCode: 0 Status: OK PackageFile: Rhisat2_1.16.0.tgz PackageFileSize: 1.199 MiB