Package: Rhdf5lib Version: 1.22.1 Command: F:\biocbuild\bbs-3.17-bioc\R\bin\R.exe CMD INSTALL Rhdf5lib StartedAt: 2023-10-15 15:48:01 -0400 (Sun, 15 Oct 2023) EndedAt: 2023-10-15 15:48:30 -0400 (Sun, 15 Oct 2023) EllapsedTime: 28.4 seconds RetCode: 0 Status: OK