Package: Rhdf5lib Version: 1.22.1 Command: /home/biocbuild/bbs-3.17-bioc/R/bin/R CMD check --install=check:Rhdf5lib.install-out.txt --library=/home/biocbuild/bbs-3.17-bioc/R/site-library --timings Rhdf5lib_1.22.1.tar.gz StartedAt: 2023-10-16 00:24:49 -0400 (Mon, 16 Oct 2023) EndedAt: 2023-10-16 00:25:07 -0400 (Mon, 16 Oct 2023) EllapsedTime: 18.7 seconds RetCode: 0 Status: WARNINGS CheckDir: Rhdf5lib.Rcheck Warnings: 1