Package: Rhdf5lib Version: 1.22.1 Command: rm -rf Rhdf5lib.buildbin-libdir && mkdir Rhdf5lib.buildbin-libdir && /Users/biocbuild/BBS/utils/build-universal.sh Rhdf5lib_1.22.1.tar.gz /Library/Frameworks/R.framework/Resources/bin/R Rhdf5lib.buildbin-libdir StartedAt: 2023-10-16 10:03:13 -0400 (Mon, 16 Oct 2023) EndedAt: 2023-10-16 10:15:00 -0400 (Mon, 16 Oct 2023) EllapsedTime: 707.6 seconds RetCode: 0 Status: OK PackageFile: Rhdf5lib_1.22.1.tgz PackageFileSize: 9.635 MiB