Package: RgnTX Version: 1.2.0 Command: F:\biocbuild\bbs-3.17-bioc\R\bin\R.exe CMD INSTALL RgnTX StartedAt: 2023-10-15 16:31:42 -0400 (Sun, 15 Oct 2023) EndedAt: 2023-10-15 16:32:28 -0400 (Sun, 15 Oct 2023) EllapsedTime: 45.6 seconds RetCode: 0 Status: OK