Package: RgnTX Version: 1.2.0 Command: /home/biocbuild/bbs-3.17-bioc/R/bin/R CMD INSTALL RgnTX StartedAt: 2023-10-15 15:25:15 -0400 (Sun, 15 Oct 2023) EndedAt: 2023-10-15 15:25:53 -0400 (Sun, 15 Oct 2023) EllapsedTime: 38.0 seconds RetCode: 0 Status: OK