Package: RgnTX Version: 1.2.0 Command: /home/biocbuild/bbs-3.17-bioc/R/bin/R CMD check --install=check:RgnTX.install-out.txt --library=/home/biocbuild/bbs-3.17-bioc/R/site-library --timings RgnTX_1.2.0.tar.gz StartedAt: 2023-10-16 00:23:49 -0400 (Mon, 16 Oct 2023) EndedAt: 2023-10-16 00:33:25 -0400 (Mon, 16 Oct 2023) EllapsedTime: 576.6 seconds RetCode: 0 Status: OK CheckDir: RgnTX.Rcheck Warnings: 0