Package: RgnTX Version: 1.2.0 Command: /home/biocbuild/bbs-3.17-bioc/R/bin/R CMD build --keep-empty-dirs --no-resave-data RgnTX StartedAt: 2023-10-15 18:11:21 -0400 (Sun, 15 Oct 2023) EndedAt: 2023-10-15 18:13:31 -0400 (Sun, 15 Oct 2023) EllapsedTime: 130.2 seconds RetCode: 0 Status: OK PackageFile: RgnTX_1.2.0.tar.gz PackageFileSize: 3.864 MiB