Package: RgnTX Version: 1.2.0 Command: /Library/Frameworks/R.framework/Resources/bin/R CMD check --install=check:RgnTX.install-out.txt --library=/Library/Frameworks/R.framework/Resources/library --no-vignettes --timings RgnTX_1.2.0.tar.gz StartedAt: 2023-10-16 06:01:35 -0400 (Mon, 16 Oct 2023) EndedAt: 2023-10-16 06:23:34 -0400 (Mon, 16 Oct 2023) EllapsedTime: 1319.4 seconds RetCode: 0 Status: OK CheckDir: RgnTX.Rcheck Warnings: 0