Package: Rfastp Version: 1.10.0 Command: F:\biocbuild\bbs-3.17-bioc\R\bin\R.exe CMD INSTALL Rfastp StartedAt: 2023-10-15 16:00:14 -0400 (Sun, 15 Oct 2023) EndedAt: 2023-10-15 16:03:06 -0400 (Sun, 15 Oct 2023) EllapsedTime: 172.0 seconds RetCode: 0 Status: OK