Package: Rfastp Version: 1.10.0 Command: /home/biocbuild/bbs-3.17-bioc/R/bin/R CMD INSTALL Rfastp StartedAt: 2023-10-15 15:13:40 -0400 (Sun, 15 Oct 2023) EndedAt: 2023-10-15 15:15:22 -0400 (Sun, 15 Oct 2023) EllapsedTime: 102.1 seconds RetCode: 0 Status: OK