Package: Rfastp Version: 1.10.0 Command: /home/biocbuild/bbs-3.17-bioc/R/bin/R CMD build --keep-empty-dirs --no-resave-data Rfastp StartedAt: 2023-10-15 18:10:52 -0400 (Sun, 15 Oct 2023) EndedAt: 2023-10-15 18:12:45 -0400 (Sun, 15 Oct 2023) EllapsedTime: 112.2 seconds RetCode: 0 Status: OK PackageFile: Rfastp_1.10.0.tar.gz PackageFileSize: 2.669 MiB