Package: ReportingTools Version: 2.40.0 Command: chmod a+r ReportingTools -R && F:\biocbuild\bbs-3.17-bioc\R\bin\R.exe CMD build --keep-empty-dirs --no-resave-data ReportingTools StartedAt: 2023-10-15 21:44:50 -0400 (Sun, 15 Oct 2023) EndedAt: 2023-10-15 21:46:32 -0400 (Sun, 15 Oct 2023) EllapsedTime: 102.1 seconds RetCode: 1 Status: ERROR PackageFile: None PackageFileSize: NA