Package: ReportingTools Version: 2.39.0 Command: rm -rf ReportingTools.buildbin-libdir && mkdir ReportingTools.buildbin-libdir && F:\biocbuild\bbs-3.17-bioc\R\bin\R.exe CMD INSTALL --build --library=ReportingTools.buildbin-libdir ReportingTools_2.39.0.tar.gz StartedAt: 2023-04-07 08:39:27 -0400 (Fri, 07 Apr 2023) EndedAt: 2023-04-07 08:40:48 -0400 (Fri, 07 Apr 2023) EllapsedTime: 81.3 seconds RetCode: 0 Status: OK PackageFile: ReportingTools_2.39.0.zip PackageFileSize: 2.055 MiB