Package: ReportingTools Version: 2.40.0 Command: /home/biocbuild/bbs-3.17-bioc/R/bin/R CMD build --keep-empty-dirs --no-resave-data ReportingTools StartedAt: 2023-10-15 18:10:15 -0400 (Sun, 15 Oct 2023) EndedAt: 2023-10-15 18:11:37 -0400 (Sun, 15 Oct 2023) EllapsedTime: 82.2 seconds RetCode: 1 Status: ERROR PackageFile: None PackageFileSize: NA