Package: ReportingTools Version: 2.39.0 Command: /Library/Frameworks/R.framework/Resources/bin/R CMD check --install=check:ReportingTools.install-out.txt --library=/Library/Frameworks/R.framework/Resources/library --no-vignettes --timings ReportingTools_2.39.0.tar.gz StartedAt: 2023-04-04 05:36:20 -0400 (Tue, 04 Apr 2023) EndedAt: 2023-04-04 06:02:53 -0400 (Tue, 04 Apr 2023) EllapsedTime: 1593.1 seconds RetCode: 0 Status: OK CheckDir: ReportingTools.Rcheck Warnings: 0