Package: Repitools Version: 1.46.0 Command: /Library/Frameworks/R.framework/Resources/bin/R CMD build --keep-empty-dirs --no-resave-data Repitools StartedAt: 2023-10-15 20:37:53 -0400 (Sun, 15 Oct 2023) EndedAt: 2023-10-15 20:40:16 -0400 (Sun, 15 Oct 2023) EllapsedTime: 142.5 seconds RetCode: 0 Status: OK PackageFile: Repitools_1.46.0.tar.gz PackageFileSize: 1.684 MiB