Package: Repitools Version: 1.46.0 Command: rm -rf Repitools.buildbin-libdir && mkdir Repitools.buildbin-libdir && /Users/biocbuild/BBS/utils/build-universal.sh Repitools_1.46.0.tar.gz /Library/Frameworks/R.framework/Resources/bin/R Repitools.buildbin-libdir StartedAt: 2023-10-16 10:02:05 -0400 (Mon, 16 Oct 2023) EndedAt: 2023-10-16 10:05:01 -0400 (Mon, 16 Oct 2023) EllapsedTime: 175.8 seconds RetCode: 0 Status: OK PackageFile: Repitools_1.46.0.tgz PackageFileSize: 2.57 MiB