Package: RegEnrich Version: 1.10.0 Command: F:\biocbuild\bbs-3.17-bioc\R\bin\R.exe CMD check --no-multiarch --install=check:RegEnrich.install-out.txt --library=F:\biocbuild\bbs-3.17-bioc\R\library --no-vignettes --timings RegEnrich_1.10.0.tar.gz StartedAt: 2023-10-16 05:49:53 -0400 (Mon, 16 Oct 2023) EndedAt: 2023-10-16 05:54:57 -0400 (Mon, 16 Oct 2023) EllapsedTime: 304.2 seconds RetCode: 0 Status: OK CheckDir: RegEnrich.Rcheck Warnings: 0